BEGIN:VCALENDAR
VERSION:2.0
PRODID:-//Borkheide - ECPv6.15.20//NONSGML v1.0//EN
CALSCALE:GREGORIAN
METHOD:PUBLISH
X-WR-CALNAME:Borkheide
X-ORIGINAL-URL:https://borkheide.eu
X-WR-CALDESC:Veranstaltungen für Borkheide
REFRESH-INTERVAL;VALUE=DURATION:PT1H
X-Robots-Tag:noindex
X-PUBLISHED-TTL:PT1H
BEGIN:VTIMEZONE
TZID:Europe/Berlin
BEGIN:DAYLIGHT
TZOFFSETFROM:+0100
TZOFFSETTO:+0200
TZNAME:CEST
DTSTART:20240331T010000
END:DAYLIGHT
BEGIN:STANDARD
TZOFFSETFROM:+0200
TZOFFSETTO:+0100
TZNAME:CET
DTSTART:20241027T010000
END:STANDARD
BEGIN:DAYLIGHT
TZOFFSETFROM:+0100
TZOFFSETTO:+0200
TZNAME:CEST
DTSTART:20250330T010000
END:DAYLIGHT
BEGIN:STANDARD
TZOFFSETFROM:+0200
TZOFFSETTO:+0100
TZNAME:CET
DTSTART:20251026T010000
END:STANDARD
BEGIN:DAYLIGHT
TZOFFSETFROM:+0100
TZOFFSETTO:+0200
TZNAME:CEST
DTSTART:20260329T010000
END:DAYLIGHT
BEGIN:STANDARD
TZOFFSETFROM:+0200
TZOFFSETTO:+0100
TZNAME:CET
DTSTART:20261025T010000
END:STANDARD
END:VTIMEZONE
BEGIN:VEVENT
DTSTART;TZID=Europe/Berlin:20251213T150000
DTEND;TZID=Europe/Berlin:20251213T200000
DTSTAMP:20260420T215903
CREATED:20250127T102247Z
LAST-MODIFIED:20250127T102247Z
UID:4053-1765638000-1765656000@borkheide.eu
SUMMARY:18. Borkheider Weihnachtsmarkt im Waldbad
DESCRIPTION:Süßer die Glocken nie klingen ...\nals bei unserem weithin bekannten Weihnachtsmarkt. \nAussteller und Besucherinnen willkommen.
URL:https://borkheide.eu/event/18-borkheider-weihnachtsmarkt-im-waldbad/
LOCATION:Naturbad Borkheide e.V.\, Kirchanger 14\, Borkheide\, Brandenburg\, 14822\, Germany
CATEGORIES:Gemeindeleben,Veranstaltungen
ATTACH;FMTTYPE=image/jpeg:https://borkheide.eu/wp-content/uploads/2023/11/weihnachtsmarkt-waldbad.jpg
END:VEVENT
END:VCALENDAR