BEGIN:VCALENDAR
VERSION:2.0
PRODID:-//Borkheide - ECPv6.15.20//NONSGML v1.0//EN
CALSCALE:GREGORIAN
METHOD:PUBLISH
X-ORIGINAL-URL:https://borkheide.eu
X-WR-CALDESC:Veranstaltungen für Borkheide
REFRESH-INTERVAL;VALUE=DURATION:PT1H
X-Robots-Tag:noindex
X-PUBLISHED-TTL:PT1H
BEGIN:VTIMEZONE
TZID:Europe/Berlin
BEGIN:DAYLIGHT
TZOFFSETFROM:+0100
TZOFFSETTO:+0200
TZNAME:CEST
DTSTART:20240331T010000
END:DAYLIGHT
BEGIN:STANDARD
TZOFFSETFROM:+0200
TZOFFSETTO:+0100
TZNAME:CET
DTSTART:20241027T010000
END:STANDARD
BEGIN:DAYLIGHT
TZOFFSETFROM:+0100
TZOFFSETTO:+0200
TZNAME:CEST
DTSTART:20250330T010000
END:DAYLIGHT
BEGIN:STANDARD
TZOFFSETFROM:+0200
TZOFFSETTO:+0100
TZNAME:CET
DTSTART:20251026T010000
END:STANDARD
BEGIN:DAYLIGHT
TZOFFSETFROM:+0100
TZOFFSETTO:+0200
TZNAME:CEST
DTSTART:20260329T010000
END:DAYLIGHT
BEGIN:STANDARD
TZOFFSETFROM:+0200
TZOFFSETTO:+0100
TZNAME:CET
DTSTART:20261025T010000
END:STANDARD
END:VTIMEZONE
BEGIN:VEVENT
DTSTART;TZID=Europe/Berlin:20250719T183000
DTEND;TZID=Europe/Berlin:20250719T233000
DTSTAMP:20260422T103734
CREATED:20250127T101415Z
LAST-MODIFIED:20250709T074354Z
UID:4045-1752949800-1752967800@borkheide.eu
SUMMARY:Motto-Party "80er Jahre"
DESCRIPTION:Erstmals im Waldbad Borkheide : 80er-Jahre-Motto-Party! \nTanzt unter freiem Himmel im Waldbad zu den größten Hits der 80er\, leuchtet in Neon\, mit Leggins \,\nJeansjacken oder Schulterpolstern - und fühlt das Kult-Feeling dieses Jahrzehnts.\nGenießt erfrischende Drinks\, leckere Snacks und das passende Retro-Feeling. \n\nMusik der 80er mit DJ Nico\nTanzfläche unter freiem Himmel\nkühle Drinks + Foodtruck + 80er Retrovibe\n\nIm 80er-Outfit kommst du für den halben Preis rein! \nSeid ihr dabei?\nWir freuen uns auf einen unvergesslichen Sommerabend mit euch! \n \n 
URL:https://borkheide.eu/event/motto-party-80er-jahre/
LOCATION:Naturbad Borkheide e.V.\, Kirchanger 14\, Borkheide\, Brandenburg\, 14822\, Germany
CATEGORIES:Gemeindeleben,Veranstaltungen
ATTACH;FMTTYPE=image/jpeg:https://borkheide.eu/wp-content/uploads/2024/03/waldbad-schlager-foto-lutz-behnke.jpg
ORGANIZER;CN="Naturbad Borkheide e.V.":MAILTO:info@waldbad-borkheide.de
END:VEVENT
END:VCALENDAR