BEGIN:VCALENDAR
VERSION:2.0
PRODID:-//Borkheide - ECPv6.15.20//NONSGML v1.0//EN
CALSCALE:GREGORIAN
METHOD:PUBLISH
X-ORIGINAL-URL:https://borkheide.eu
X-WR-CALDESC:Veranstaltungen für Borkheide
REFRESH-INTERVAL;VALUE=DURATION:PT1H
X-Robots-Tag:noindex
X-PUBLISHED-TTL:PT1H
BEGIN:VTIMEZONE
TZID:Europe/Berlin
BEGIN:DAYLIGHT
TZOFFSETFROM:+0100
TZOFFSETTO:+0200
TZNAME:CEST
DTSTART:20220327T010000
END:DAYLIGHT
BEGIN:STANDARD
TZOFFSETFROM:+0200
TZOFFSETTO:+0100
TZNAME:CET
DTSTART:20221030T010000
END:STANDARD
BEGIN:DAYLIGHT
TZOFFSETFROM:+0100
TZOFFSETTO:+0200
TZNAME:CEST
DTSTART:20230326T010000
END:DAYLIGHT
BEGIN:STANDARD
TZOFFSETFROM:+0200
TZOFFSETTO:+0100
TZNAME:CET
DTSTART:20231029T010000
END:STANDARD
BEGIN:DAYLIGHT
TZOFFSETFROM:+0100
TZOFFSETTO:+0200
TZNAME:CEST
DTSTART:20240331T010000
END:DAYLIGHT
BEGIN:STANDARD
TZOFFSETFROM:+0200
TZOFFSETTO:+0100
TZNAME:CET
DTSTART:20241027T010000
END:STANDARD
END:VTIMEZONE
BEGIN:VEVENT
DTSTART;TZID=Europe/Berlin:20230601T150000
DTEND;TZID=Europe/Berlin:20230601T170000
DTSTAMP:20260422T104313
CREATED:20230530T122155Z
LAST-MODIFIED:20230530T122306Z
UID:2182-1685631600-1685638800@borkheide.eu
SUMMARY:Treffen der Seniorinnen und Senioren
DESCRIPTION:Die Seniorinnen und Senioren des SfB treffen sich jeden 1. Donnerstag im Monat um 15.00 Uhr im Gemeindehaus Kirchanger 3  von Borkheide.
URL:https://borkheide.eu/event/treffen-der-seniorinnen-und-senioren/
LOCATION:Gemeindehaus\, Kirchanger 3\, Borkheide\, Brandenburg\, 14822\, Deutschland
CATEGORIES:Veranstaltungen
END:VEVENT
END:VCALENDAR